BEGIN:VCALENDAR
VERSION:2.0
PRODID:-//Zürcher Lighthouse - ECPv6.15.20//NONSGML v1.0//EN
CALSCALE:GREGORIAN
METHOD:PUBLISH
X-ORIGINAL-URL:https://www.zuercher-lighthouse.ch
X-WR-CALDESC:Veranstaltungen für Zürcher Lighthouse
REFRESH-INTERVAL;VALUE=DURATION:PT1H
X-Robots-Tag:noindex
X-PUBLISHED-TTL:PT1H
BEGIN:VTIMEZONE
TZID:Europe/Zurich
BEGIN:DAYLIGHT
TZOFFSETFROM:+0100
TZOFFSETTO:+0200
TZNAME:CEST
DTSTART:20250330T010000
END:DAYLIGHT
BEGIN:STANDARD
TZOFFSETFROM:+0200
TZOFFSETTO:+0100
TZNAME:CET
DTSTART:20251026T010000
END:STANDARD
BEGIN:DAYLIGHT
TZOFFSETFROM:+0100
TZOFFSETTO:+0200
TZNAME:CEST
DTSTART:20260329T010000
END:DAYLIGHT
BEGIN:STANDARD
TZOFFSETFROM:+0200
TZOFFSETTO:+0100
TZNAME:CET
DTSTART:20261025T010000
END:STANDARD
BEGIN:DAYLIGHT
TZOFFSETFROM:+0100
TZOFFSETTO:+0200
TZNAME:CEST
DTSTART:20270328T010000
END:DAYLIGHT
BEGIN:STANDARD
TZOFFSETFROM:+0200
TZOFFSETTO:+0100
TZNAME:CET
DTSTART:20271031T010000
END:STANDARD
BEGIN:DAYLIGHT
TZOFFSETFROM:+0100
TZOFFSETTO:+0200
TZNAME:CEST
DTSTART:20280326T010000
END:DAYLIGHT
BEGIN:STANDARD
TZOFFSETFROM:+0200
TZOFFSETTO:+0100
TZNAME:CET
DTSTART:20281029T010000
END:STANDARD
END:VTIMEZONE
BEGIN:VEVENT
DTSTART;TZID=Europe/Zurich:20261101T100000
DTEND;TZID=Europe/Zurich:20261101T150000
DTSTAMP:20260424T050641
CREATED:20260423T124017Z
LAST-MODIFIED:20260423T124815Z
UID:10000033-1793527200-1793545200@www.zuercher-lighthouse.ch
SUMMARY:Sonntagsbrunch & Ritualgruppe – endlich menschlich 2026
DESCRIPTION:Die genaue Zeitspanne wird noch bekannt gegeben! \nendlich_menschlichThemenwoche vom 24. Oktober bis 2. November 2026 \nVom 24. Oktober bis 1. November 2026 finden in Zürich diverse Veranstaltungen zum Thema Palliative Care statt. \nDas Zürcher Lighthouse nimmt die Themenwoche zum Anlass\, Einblicke in das tägliche Wirken unseres Hauses zu geben – geprägt von Würde\, Respekt und Menschlichkeit. \n\nProgramm im Zürcher Lighthouse \nMontag\, 26. OktoberEinblicke in unser Trauerkaffee17:45 Uhr \nDienstag\, 27. OktoberFührungen durch das Zürcher LighthouseVormittag – Nachmittag \nMittwoch\, 28. OktoberWie verarbeiten wir den Tod und den Verlust von Bewohnenden14:40 Uhr / RitualgruppeBardo Care – Unterstützung in der letzten Lebensphasebardocare.org \nDonnerstag\, 29. OktoberThemenabend «Palliative Care – Der Zeitpunkt entscheidet»Abendveranstaltung mit geladenen Gästen \nFreitag\, 30. OktoberFührungen durch das Zürcher LighthouseVormittag – Nachmittag \nSamstag\, 31. OktoberTag der offenen Tür mit AndachtsfeierGanztags \nSonntag\, 1. NovemberSonntagsbrunch10:00 Uhr / RitualgruppeBetreuung von Angehörigen nach einem Verlustendlich-menschlich.ch \n 
URL:https://www.zuercher-lighthouse.ch/event/sonntagsbrunch-ritualgruppe-endlich-menschlich-2026/
CATEGORIES:Endlich Menschlich,Veranstaltung
ATTACH;FMTTYPE=image/jpeg:https://www.zuercher-lighthouse.ch/wp-content/uploads/DSC_0598-scaled.jpg
END:VEVENT
BEGIN:VEVENT
DTSTART;TZID=Europe/Zurich:20261102T174500
DTEND;TZID=Europe/Zurich:20261102T193000
DTSTAMP:20260424T050641
CREATED:20260422T112519Z
LAST-MODIFIED:20260423T105430Z
UID:10000020-1793641500-1793647800@www.zuercher-lighthouse.ch
SUMMARY:Trauerkaffee
DESCRIPTION:Trauerkaffee – Zürcher Lighthouse \nEin Ort der Begegnung für Menschen\, die einen Verlust erlitten haben. \nWannJeweils am ersten Montag im Monat \nZeit17:45 – 19:30 Uhr \nKostenDie Teilnahme ist kostenlos \n\nÜber das Trauerkaffee \nUnser Trauerkaffee findet in Zusammenarbeit mit der Quartierarbeit Kreis 4 der Stadt Zürich im Zürcher Lighthouse statt. Es bietet einen geschützten Rahmen für Austausch\, Begegnung und gemeinsames Innehalten. \nGetränke und eine kleine Verpflegung werden kostenlos zur Verfügung gestellt. \n\nDaten \n\nJuni\nJuli\nAugust\nSeptember\nOktober\nNovember\nDezember\nJanuar\nFebruar\nMärz\nApril\nMai\n\n\nWeitere Informationen \nDas Angebot richtet sich an Menschen\, die einen Verlust erlebt haben und einen Ort suchen\, an dem Begegnung\, Verständnis und Austausch möglich sind.
URL:https://www.zuercher-lighthouse.ch/event/trauerkaffee/2026-11-02/
CATEGORIES:Veranstaltung
ATTACH;FMTTYPE=image/jpeg:https://www.zuercher-lighthouse.ch/wp-content/uploads/DSC_0335-scaled.jpg
END:VEVENT
BEGIN:VEVENT
DTSTART;TZID=Europe/Zurich:20261207T174500
DTEND;TZID=Europe/Zurich:20261207T193000
DTSTAMP:20260424T050641
CREATED:20260422T112519Z
LAST-MODIFIED:20260423T105430Z
UID:10000021-1796665500-1796671800@www.zuercher-lighthouse.ch
SUMMARY:Trauerkaffee
DESCRIPTION:Trauerkaffee – Zürcher Lighthouse \nEin Ort der Begegnung für Menschen\, die einen Verlust erlitten haben. \nWannJeweils am ersten Montag im Monat \nZeit17:45 – 19:30 Uhr \nKostenDie Teilnahme ist kostenlos \n\nÜber das Trauerkaffee \nUnser Trauerkaffee findet in Zusammenarbeit mit der Quartierarbeit Kreis 4 der Stadt Zürich im Zürcher Lighthouse statt. Es bietet einen geschützten Rahmen für Austausch\, Begegnung und gemeinsames Innehalten. \nGetränke und eine kleine Verpflegung werden kostenlos zur Verfügung gestellt. \n\nDaten \n\nJuni\nJuli\nAugust\nSeptember\nOktober\nNovember\nDezember\nJanuar\nFebruar\nMärz\nApril\nMai\n\n\nWeitere Informationen \nDas Angebot richtet sich an Menschen\, die einen Verlust erlebt haben und einen Ort suchen\, an dem Begegnung\, Verständnis und Austausch möglich sind.
URL:https://www.zuercher-lighthouse.ch/event/trauerkaffee/2026-12-07/
CATEGORIES:Veranstaltung
ATTACH;FMTTYPE=image/jpeg:https://www.zuercher-lighthouse.ch/wp-content/uploads/DSC_0335-scaled.jpg
END:VEVENT
BEGIN:VEVENT
DTSTART;TZID=Europe/Zurich:20270104T174500
DTEND;TZID=Europe/Zurich:20270104T193000
DTSTAMP:20260424T050641
CREATED:20260422T112519Z
LAST-MODIFIED:20260423T105430Z
UID:10000022-1799084700-1799091000@www.zuercher-lighthouse.ch
SUMMARY:Trauerkaffee
DESCRIPTION:Trauerkaffee – Zürcher Lighthouse \nEin Ort der Begegnung für Menschen\, die einen Verlust erlitten haben. \nWannJeweils am ersten Montag im Monat \nZeit17:45 – 19:30 Uhr \nKostenDie Teilnahme ist kostenlos \n\nÜber das Trauerkaffee \nUnser Trauerkaffee findet in Zusammenarbeit mit der Quartierarbeit Kreis 4 der Stadt Zürich im Zürcher Lighthouse statt. Es bietet einen geschützten Rahmen für Austausch\, Begegnung und gemeinsames Innehalten. \nGetränke und eine kleine Verpflegung werden kostenlos zur Verfügung gestellt. \n\nDaten \n\nJuni\nJuli\nAugust\nSeptember\nOktober\nNovember\nDezember\nJanuar\nFebruar\nMärz\nApril\nMai\n\n\nWeitere Informationen \nDas Angebot richtet sich an Menschen\, die einen Verlust erlebt haben und einen Ort suchen\, an dem Begegnung\, Verständnis und Austausch möglich sind.
URL:https://www.zuercher-lighthouse.ch/event/trauerkaffee/2027-01-04/
CATEGORIES:Veranstaltung
ATTACH;FMTTYPE=image/jpeg:https://www.zuercher-lighthouse.ch/wp-content/uploads/DSC_0335-scaled.jpg
END:VEVENT
BEGIN:VEVENT
DTSTART;TZID=Europe/Zurich:20270201T174500
DTEND;TZID=Europe/Zurich:20270201T193000
DTSTAMP:20260424T050641
CREATED:20260422T112519Z
LAST-MODIFIED:20260423T105430Z
UID:10000023-1801503900-1801510200@www.zuercher-lighthouse.ch
SUMMARY:Trauerkaffee
DESCRIPTION:Trauerkaffee – Zürcher Lighthouse \nEin Ort der Begegnung für Menschen\, die einen Verlust erlitten haben. \nWannJeweils am ersten Montag im Monat \nZeit17:45 – 19:30 Uhr \nKostenDie Teilnahme ist kostenlos \n\nÜber das Trauerkaffee \nUnser Trauerkaffee findet in Zusammenarbeit mit der Quartierarbeit Kreis 4 der Stadt Zürich im Zürcher Lighthouse statt. Es bietet einen geschützten Rahmen für Austausch\, Begegnung und gemeinsames Innehalten. \nGetränke und eine kleine Verpflegung werden kostenlos zur Verfügung gestellt. \n\nDaten \n\nJuni\nJuli\nAugust\nSeptember\nOktober\nNovember\nDezember\nJanuar\nFebruar\nMärz\nApril\nMai\n\n\nWeitere Informationen \nDas Angebot richtet sich an Menschen\, die einen Verlust erlebt haben und einen Ort suchen\, an dem Begegnung\, Verständnis und Austausch möglich sind.
URL:https://www.zuercher-lighthouse.ch/event/trauerkaffee/2027-02-01/
CATEGORIES:Veranstaltung
ATTACH;FMTTYPE=image/jpeg:https://www.zuercher-lighthouse.ch/wp-content/uploads/DSC_0335-scaled.jpg
END:VEVENT
BEGIN:VEVENT
DTSTART;TZID=Europe/Zurich:20270301T174500
DTEND;TZID=Europe/Zurich:20270301T193000
DTSTAMP:20260424T050641
CREATED:20260422T112519Z
LAST-MODIFIED:20260423T105430Z
UID:10000024-1803923100-1803929400@www.zuercher-lighthouse.ch
SUMMARY:Trauerkaffee
DESCRIPTION:Trauerkaffee – Zürcher Lighthouse \nEin Ort der Begegnung für Menschen\, die einen Verlust erlitten haben. \nWannJeweils am ersten Montag im Monat \nZeit17:45 – 19:30 Uhr \nKostenDie Teilnahme ist kostenlos \n\nÜber das Trauerkaffee \nUnser Trauerkaffee findet in Zusammenarbeit mit der Quartierarbeit Kreis 4 der Stadt Zürich im Zürcher Lighthouse statt. Es bietet einen geschützten Rahmen für Austausch\, Begegnung und gemeinsames Innehalten. \nGetränke und eine kleine Verpflegung werden kostenlos zur Verfügung gestellt. \n\nDaten \n\nJuni\nJuli\nAugust\nSeptember\nOktober\nNovember\nDezember\nJanuar\nFebruar\nMärz\nApril\nMai\n\n\nWeitere Informationen \nDas Angebot richtet sich an Menschen\, die einen Verlust erlebt haben und einen Ort suchen\, an dem Begegnung\, Verständnis und Austausch möglich sind.
URL:https://www.zuercher-lighthouse.ch/event/trauerkaffee/2027-03-01/
CATEGORIES:Veranstaltung
ATTACH;FMTTYPE=image/jpeg:https://www.zuercher-lighthouse.ch/wp-content/uploads/DSC_0335-scaled.jpg
END:VEVENT
BEGIN:VEVENT
DTSTART;TZID=Europe/Zurich:20270405T174500
DTEND;TZID=Europe/Zurich:20270405T193000
DTSTAMP:20260424T050641
CREATED:20260422T112519Z
LAST-MODIFIED:20260423T105430Z
UID:10000025-1806947100-1806953400@www.zuercher-lighthouse.ch
SUMMARY:Trauerkaffee
DESCRIPTION:Trauerkaffee – Zürcher Lighthouse \nEin Ort der Begegnung für Menschen\, die einen Verlust erlitten haben. \nWannJeweils am ersten Montag im Monat \nZeit17:45 – 19:30 Uhr \nKostenDie Teilnahme ist kostenlos \n\nÜber das Trauerkaffee \nUnser Trauerkaffee findet in Zusammenarbeit mit der Quartierarbeit Kreis 4 der Stadt Zürich im Zürcher Lighthouse statt. Es bietet einen geschützten Rahmen für Austausch\, Begegnung und gemeinsames Innehalten. \nGetränke und eine kleine Verpflegung werden kostenlos zur Verfügung gestellt. \n\nDaten \n\nJuni\nJuli\nAugust\nSeptember\nOktober\nNovember\nDezember\nJanuar\nFebruar\nMärz\nApril\nMai\n\n\nWeitere Informationen \nDas Angebot richtet sich an Menschen\, die einen Verlust erlebt haben und einen Ort suchen\, an dem Begegnung\, Verständnis und Austausch möglich sind.
URL:https://www.zuercher-lighthouse.ch/event/trauerkaffee/2027-04-05/
CATEGORIES:Veranstaltung
ATTACH;FMTTYPE=image/jpeg:https://www.zuercher-lighthouse.ch/wp-content/uploads/DSC_0335-scaled.jpg
END:VEVENT
BEGIN:VEVENT
DTSTART;TZID=Europe/Zurich:20270503T174500
DTEND;TZID=Europe/Zurich:20270503T193000
DTSTAMP:20260424T050641
CREATED:20260422T112519Z
LAST-MODIFIED:20260423T105430Z
UID:10000026-1809366300-1809372600@www.zuercher-lighthouse.ch
SUMMARY:Trauerkaffee
DESCRIPTION:Trauerkaffee – Zürcher Lighthouse \nEin Ort der Begegnung für Menschen\, die einen Verlust erlitten haben. \nWannJeweils am ersten Montag im Monat \nZeit17:45 – 19:30 Uhr \nKostenDie Teilnahme ist kostenlos \n\nÜber das Trauerkaffee \nUnser Trauerkaffee findet in Zusammenarbeit mit der Quartierarbeit Kreis 4 der Stadt Zürich im Zürcher Lighthouse statt. Es bietet einen geschützten Rahmen für Austausch\, Begegnung und gemeinsames Innehalten. \nGetränke und eine kleine Verpflegung werden kostenlos zur Verfügung gestellt. \n\nDaten \n\nJuni\nJuli\nAugust\nSeptember\nOktober\nNovember\nDezember\nJanuar\nFebruar\nMärz\nApril\nMai\n\n\nWeitere Informationen \nDas Angebot richtet sich an Menschen\, die einen Verlust erlebt haben und einen Ort suchen\, an dem Begegnung\, Verständnis und Austausch möglich sind.
URL:https://www.zuercher-lighthouse.ch/event/trauerkaffee/2027-05-03/
CATEGORIES:Veranstaltung
ATTACH;FMTTYPE=image/jpeg:https://www.zuercher-lighthouse.ch/wp-content/uploads/DSC_0335-scaled.jpg
END:VEVENT
END:VCALENDAR